BEGIN:VCALENDAR
VERSION:2.0
PRODID:-//Centro Moderno de Ensino - ECPv5.9.1//NONSGML v1.0//EN
CALSCALE:GREGORIAN
METHOD:PUBLISH
X-WR-CALNAME:Centro Moderno de Ensino
X-ORIGINAL-URL:https://centromoderno.com.br
X-WR-CALDESC:Events for Centro Moderno de Ensino
BEGIN:VTIMEZONE
TZID:America/Sao_Paulo
BEGIN:STANDARD
TZOFFSETFROM:-0300
TZOFFSETTO:-0300
TZNAME:-03
DTSTART:20260101T000000
END:STANDARD
END:VTIMEZONE
BEGIN:VEVENT
DTSTART;VALUE=DATE:20260807
DTEND;VALUE=DATE:20260808
DTSTAMP:20260424T221919
CREATED:20260226T125341Z
LAST-MODIFIED:20260226T125341Z
UID:518469-1786060800-1786147199@centromoderno.com.br
SUMMARY:Comemoração de Dia dos Pais - MINI E MATERNAL (Manhã)
DESCRIPTION:
URL:https://centromoderno.com.br/event/comemoracao-de-dia-dos-pais-mini-e-maternal-manha/
CATEGORIES:Educação Infantil
END:VEVENT
BEGIN:VEVENT
DTSTART;VALUE=DATE:20260808
DTEND;VALUE=DATE:20260809
DTSTAMP:20260424T221919
CREATED:20260226T125439Z
LAST-MODIFIED:20260226T125439Z
UID:518471-1786147200-1786233599@centromoderno.com.br
SUMMARY:Comemoração de Dia dos Pais - INFANTIL (Tarde)
DESCRIPTION:
URL:https://centromoderno.com.br/event/comemoracao-de-dia-dos-pais-infantil-tarde/
CATEGORIES:Educação Infantil
END:VEVENT
BEGIN:VEVENT
DTSTART;VALUE=DATE:20260814
DTEND;VALUE=DATE:20260815
DTSTAMP:20260424T221919
CREATED:20260226T124305Z
LAST-MODIFIED:20260226T124305Z
UID:518458-1786665600-1786751999@centromoderno.com.br
SUMMARY:Comunicação e Arte
DESCRIPTION:
URL:https://centromoderno.com.br/event/comunicacao-e-arte-3/
CATEGORIES:Evento Escolar
END:VEVENT
BEGIN:VEVENT
DTSTART;VALUE=DATE:20260817
DTEND;VALUE=DATE:20260822
DTSTAMP:20260424T221919
CREATED:20260226T125611Z
LAST-MODIFIED:20260226T125611Z
UID:518475-1786924800-1787356799@centromoderno.com.br
SUMMARY:Semana de AAC - 2º Período
DESCRIPTION:
URL:https://centromoderno.com.br/event/semana-de-aac-2o-periodo/
CATEGORIES:Ensino Fundamental I
END:VEVENT
BEGIN:VEVENT
DTSTART;VALUE=DATE:20260822
DTEND;VALUE=DATE:20260823
DTSTAMP:20260424T221919
CREATED:20260226T124456Z
LAST-MODIFIED:20260226T124456Z
UID:518460-1787356800-1787443199@centromoderno.com.br
SUMMARY:AV. Sistemática SAS - 2º Período
DESCRIPTION:
URL:https://centromoderno.com.br/event/av-sistematica-sas-2o-periodo-2/
CATEGORIES:Ensino Fundamental II
END:VEVENT
BEGIN:VEVENT
DTSTART;VALUE=DATE:20260822
DTEND;VALUE=DATE:20260823
DTSTAMP:20260424T221919
CREATED:20260226T125151Z
LAST-MODIFIED:20260226T125151Z
UID:518467-1787356800-1787443199@centromoderno.com.br
SUMMARY:2CH Prova Objetiva - 2º Período
DESCRIPTION:
URL:https://centromoderno.com.br/event/2ch-prova-objetiva-2o-periodo/
CATEGORIES:Ensino Médio
END:VEVENT
BEGIN:VEVENT
DTSTART;VALUE=DATE:20260824
DTEND;VALUE=DATE:20260829
DTSTAMP:20260424T221919
CREATED:20260226T125103Z
LAST-MODIFIED:20260226T125103Z
UID:518465-1787529600-1787961599@centromoderno.com.br
SUMMARY:Semana AAC - 2º Período
DESCRIPTION:
URL:https://centromoderno.com.br/event/semana-aac-2o-periodo/
CATEGORIES:Ensino Fundamental II,Ensino Médio
END:VEVENT
END:VCALENDAR