BEGIN:VCALENDAR
VERSION:2.0
PRODID:-//Centro Moderno de Ensino - ECPv5.9.1//NONSGML v1.0//EN
CALSCALE:GREGORIAN
METHOD:PUBLISH
X-WR-CALNAME:Centro Moderno de Ensino
X-ORIGINAL-URL:https://centromoderno.com.br
X-WR-CALDESC:Events for Centro Moderno de Ensino
BEGIN:VTIMEZONE
TZID:America/Sao_Paulo
BEGIN:STANDARD
TZOFFSETFROM:-0300
TZOFFSETTO:-0300
TZNAME:-03
DTSTART:20260101T000000
END:STANDARD
END:VTIMEZONE
BEGIN:VEVENT
DTSTART;VALUE=DATE:20260701
DTEND;VALUE=DATE:20260702
DTSTAMP:20260424T203902
CREATED:20260226T124132Z
LAST-MODIFIED:20260226T124132Z
UID:518452-1782864000-1782950399@centromoderno.com.br
SUMMARY:Passeio ao AquaRio (Jardim 3)
DESCRIPTION:
URL:https://centromoderno.com.br/event/passeio-ao-aquario-jardim-3/
CATEGORIES:Educação Infantil
END:VEVENT
BEGIN:VEVENT
DTSTART;VALUE=DATE:20260711
DTEND;VALUE=DATE:20260712
DTSTAMP:20260424T203902
CREATED:20260226T123745Z
LAST-MODIFIED:20260226T123745Z
UID:518427-1783728000-1783814399@centromoderno.com.br
SUMMARY:Festa Julina
DESCRIPTION:
URL:https://centromoderno.com.br/event/festa-julina-4/
CATEGORIES:Evento Escolar
END:VEVENT
BEGIN:VEVENT
DTSTART;VALUE=DATE:20260713
DTEND;VALUE=DATE:20260718
DTSTAMP:20260424T203902
CREATED:20260226T124235Z
LAST-MODIFIED:20260226T124235Z
UID:518456-1783900800-1784332799@centromoderno.com.br
SUMMARY:Período de Testes - 2º Período
DESCRIPTION:
URL:https://centromoderno.com.br/event/periodo-de-testes-2o-periodo-2/
CATEGORIES:Ensino Fundamental I,Ensino Fundamental II
END:VEVENT
BEGIN:VEVENT
DTSTART;VALUE=DATE:20260714
DTEND;VALUE=DATE:20260715
DTSTAMP:20260424T203902
CREATED:20260226T123855Z
LAST-MODIFIED:20260226T123855Z
UID:518432-1783987200-1784073599@centromoderno.com.br
SUMMARY:Prova Objetiva Modelo ENEM - 2º Período
DESCRIPTION:
URL:https://centromoderno.com.br/event/prova-objetiva-modelo-enem-2o-periodo/
CATEGORIES:Ensino Médio
END:VEVENT
BEGIN:VEVENT
DTSTART;VALUE=DATE:20260717
DTEND;VALUE=DATE:20260718
DTSTAMP:20260424T203902
CREATED:20260226T123914Z
LAST-MODIFIED:20260226T123914Z
UID:518441-1784246400-1784332799@centromoderno.com.br
SUMMARY:Prova Objetiva Modelo ENEM - 2º Período
DESCRIPTION:
URL:https://centromoderno.com.br/event/prova-objetiva-modelo-enem-2o-periodo-2/
CATEGORIES:Ensino Médio
END:VEVENT
BEGIN:VEVENT
DTSTART;VALUE=DATE:20260720
DTEND;VALUE=DATE:20260801
DTSTAMP:20260424T203902
CREATED:20260226T124037Z
LAST-MODIFIED:20260226T124037Z
UID:518444-1784505600-1785542399@centromoderno.com.br
SUMMARY:Dias livres para os alunos
DESCRIPTION:
URL:https://centromoderno.com.br/event/dias-livres-para-os-alunos-5/
CATEGORIES:Evento Escolar
END:VEVENT
END:VCALENDAR