BEGIN:VCALENDAR
VERSION:2.0
PRODID:-//Centro Moderno de Ensino - ECPv5.9.1//NONSGML v1.0//EN
CALSCALE:GREGORIAN
METHOD:PUBLISH
X-WR-CALNAME:Centro Moderno de Ensino
X-ORIGINAL-URL:https://centromoderno.com.br
X-WR-CALDESC:Events for Centro Moderno de Ensino
BEGIN:VTIMEZONE
TZID:America/Sao_Paulo
BEGIN:STANDARD
TZOFFSETFROM:-0300
TZOFFSETTO:-0300
TZNAME:-03
DTSTART:20260101T000000
END:STANDARD
END:VTIMEZONE
BEGIN:VEVENT
DTSTART;VALUE=DATE:20260501
DTEND;VALUE=DATE:20260502
DTSTAMP:20260424T170146
CREATED:20260226T115701Z
LAST-MODIFIED:20260226T115701Z
UID:518363-1777593600-1777679999@centromoderno.com.br
SUMMARY:Feriado Dia do Trabalho
DESCRIPTION:
URL:https://centromoderno.com.br/event/feriado-dia-do-trabalho-3/
CATEGORIES:Feriado Nacional
END:VEVENT
BEGIN:VEVENT
DTSTART;VALUE=DATE:20260507
DTEND;VALUE=DATE:20260516
DTSTAMP:20260424T170146
CREATED:20260226T115750Z
LAST-MODIFIED:20260226T115750Z
UID:518365-1778112000-1778889599@centromoderno.com.br
SUMMARY:Provas 1º Período
DESCRIPTION:
URL:https://centromoderno.com.br/event/provas-1o-periodo-3/
CATEGORIES:Ensino Fundamental I
END:VEVENT
BEGIN:VEVENT
DTSTART;VALUE=DATE:20260507
DTEND;VALUE=DATE:20260514
DTSTAMP:20260424T170146
CREATED:20260226T120047Z
LAST-MODIFIED:20260226T120047Z
UID:518373-1778112000-1778716799@centromoderno.com.br
SUMMARY:Provas 1º Período
DESCRIPTION:
URL:https://centromoderno.com.br/event/provas-1o-periodo-4/
CATEGORIES:Ensino Fundamental II
END:VEVENT
BEGIN:VEVENT
DTSTART;VALUE=DATE:20260507
DTEND;VALUE=DATE:20260514
DTSTAMP:20260424T170146
CREATED:20260226T120334Z
LAST-MODIFIED:20260226T120334Z
UID:518381-1778112000-1778716799@centromoderno.com.br
SUMMARY:Provas Discursivas - 1º Período
DESCRIPTION:
URL:https://centromoderno.com.br/event/provas-discursivas-1o-periodo-2/
CATEGORIES:Ensino Médio
END:VEVENT
BEGIN:VEVENT
DTSTART;VALUE=DATE:20260508
DTEND;VALUE=DATE:20260509
DTSTAMP:20260424T170146
CREATED:20260226T120715Z
LAST-MODIFIED:20260226T120715Z
UID:518387-1778198400-1778284799@centromoderno.com.br
SUMMARY:Comemoração de Dia das Mães - MINI e MATERNAL (Manhã)
DESCRIPTION:
URL:https://centromoderno.com.br/event/comemoracao-de-dia-das-maes-mini-e-maternal-manha/
CATEGORIES:Educação Infantil
END:VEVENT
BEGIN:VEVENT
DTSTART;VALUE=DATE:20260509
DTEND;VALUE=DATE:20260510
DTSTAMP:20260424T170146
CREATED:20260226T120801Z
LAST-MODIFIED:20260226T120801Z
UID:518389-1778284800-1778371199@centromoderno.com.br
SUMMARY:Comemoração de Dia das Mães - INFANTIL (Tarde)
DESCRIPTION:
URL:https://centromoderno.com.br/event/comemoracao-de-dia-das-maes-infantil-tarde/
CATEGORIES:Educação Infantil
END:VEVENT
BEGIN:VEVENT
DTSTART;VALUE=DATE:20260516
DTEND;VALUE=DATE:20260517
DTSTAMP:20260424T170146
CREATED:20260226T120126Z
LAST-MODIFIED:20260226T120126Z
UID:518375-1778889600-1778975999@centromoderno.com.br
SUMMARY:Av. Sistemática SAS - 1º Período
DESCRIPTION:
URL:https://centromoderno.com.br/event/av-sistematica-sas-1o-periodo-2/
CATEGORIES:Ensino Fundamental II
END:VEVENT
BEGIN:VEVENT
DTSTART;VALUE=DATE:20260516
DTEND;VALUE=DATE:20260517
DTSTAMP:20260424T170146
CREATED:20260226T120430Z
LAST-MODIFIED:20260226T120430Z
UID:518383-1778889600-1778975999@centromoderno.com.br
SUMMARY:AV. Sistemática SAS - 1º Período
DESCRIPTION:Somente 415 e 425.
URL:https://centromoderno.com.br/event/av-sistematica-sas-1o-periodo-3/
CATEGORIES:Ensino Médio
END:VEVENT
BEGIN:VEVENT
DTSTART;VALUE=DATE:20260519
DTEND;VALUE=DATE:20260520
DTSTAMP:20260424T170146
CREATED:20260226T115850Z
LAST-MODIFIED:20260226T115850Z
UID:518367-1779148800-1779235199@centromoderno.com.br
SUMMARY:1º Provinha SAS - Português
DESCRIPTION:
URL:https://centromoderno.com.br/event/1o-provinha-sas-portugues/
CATEGORIES:Ensino Fundamental I
END:VEVENT
BEGIN:VEVENT
DTSTART;VALUE=DATE:20260520
DTEND;VALUE=DATE:20260521
DTSTAMP:20260424T170146
CREATED:20260226T115947Z
LAST-MODIFIED:20260226T115947Z
UID:518371-1779235200-1779321599@centromoderno.com.br
SUMMARY:COC 1º Período
DESCRIPTION:
URL:https://centromoderno.com.br/event/coc-1o-periodo/
CATEGORIES:Ensino Fundamental I
END:VEVENT
BEGIN:VEVENT
DTSTART;VALUE=DATE:20260522
DTEND;VALUE=DATE:20260523
DTSTAMP:20260424T170146
CREATED:20260226T115915Z
LAST-MODIFIED:20260226T115915Z
UID:518369-1779408000-1779494399@centromoderno.com.br
SUMMARY:1º Provinha SAS - Matemática
DESCRIPTION:
URL:https://centromoderno.com.br/event/1o-provinha-sas-matematica/
CATEGORIES:Ensino Fundamental I
END:VEVENT
BEGIN:VEVENT
DTSTART;VALUE=DATE:20260523
DTEND;VALUE=DATE:20260524
DTSTAMP:20260424T170146
CREATED:20260226T120211Z
LAST-MODIFIED:20260226T120211Z
UID:518377-1779494400-1779580799@centromoderno.com.br
SUMMARY:2CH Única
DESCRIPTION:
URL:https://centromoderno.com.br/event/2ch-unica/
CATEGORIES:Ensino Fundamental II
END:VEVENT
BEGIN:VEVENT
DTSTART;VALUE=DATE:20260523
DTEND;VALUE=DATE:20260524
DTSTAMP:20260424T170146
CREATED:20260226T120241Z
LAST-MODIFIED:20260226T120241Z
UID:518379-1779494400-1779580799@centromoderno.com.br
SUMMARY:COC 1º Período
DESCRIPTION:
URL:https://centromoderno.com.br/event/coc-1o-periodo-2/
CATEGORIES:Ensino Fundamental II
END:VEVENT
BEGIN:VEVENT
DTSTART;VALUE=DATE:20260523
DTEND;VALUE=DATE:20260524
DTSTAMP:20260424T170146
CREATED:20260226T120524Z
LAST-MODIFIED:20260226T120524Z
UID:518385-1779494400-1779580799@centromoderno.com.br
SUMMARY:2CH - Provas Discursivas
DESCRIPTION:
URL:https://centromoderno.com.br/event/2ch-provas-discursivas/
CATEGORIES:Ensino Médio
END:VEVENT
END:VCALENDAR