BEGIN:VCALENDAR
VERSION:2.0
PRODID:-//Centro Moderno de Ensino - ECPv5.9.1//NONSGML v1.0//EN
CALSCALE:GREGORIAN
METHOD:PUBLISH
X-WR-CALNAME:Centro Moderno de Ensino
X-ORIGINAL-URL:https://centromoderno.com.br
X-WR-CALDESC:Events for Centro Moderno de Ensino
BEGIN:VTIMEZONE
TZID:America/Sao_Paulo
BEGIN:STANDARD
TZOFFSETFROM:-0300
TZOFFSETTO:-0300
TZNAME:-03
DTSTART:20250101T000000
END:STANDARD
END:VTIMEZONE
BEGIN:VEVENT
DTSTART;VALUE=DATE:20251213
DTEND;VALUE=DATE:20251214
DTSTAMP:20260421T012058
CREATED:20250221T115952Z
LAST-MODIFIED:20250221T115952Z
UID:234456-1765584000-1765670399@centromoderno.com.br
SUMMARY:Festa de Encerramento (Ed. Infantil)
DESCRIPTION:
URL:https://centromoderno.com.br/event/festa-de-encerramento-ed-infantil/
CATEGORIES:Educação Infantil
END:VEVENT
END:VCALENDAR