BEGIN:VCALENDAR
VERSION:2.0
PRODID:-//Centro Moderno de Ensino - ECPv5.9.1//NONSGML v1.0//EN
CALSCALE:GREGORIAN
METHOD:PUBLISH
X-WR-CALNAME:Centro Moderno de Ensino
X-ORIGINAL-URL:https://centromoderno.com.br
X-WR-CALDESC:Eventos para Centro Moderno de Ensino
BEGIN:VTIMEZONE
TZID:America/Sao_Paulo
BEGIN:STANDARD
TZOFFSETFROM:-0300
TZOFFSETTO:-0300
TZNAME:-03
DTSTART:20260101T000000
END:STANDARD
END:VTIMEZONE
BEGIN:VEVENT
DTSTART;VALUE=DATE:20260921
DTEND;VALUE=DATE:20260922
DTSTAMP:20260421T044114
CREATED:20260226T130613Z
LAST-MODIFIED:20260226T130613Z
UID:518497-1789948800-1790035199@centromoderno.com.br
SUMMARY:SAS ENEM - 2º DIA (435)
DESCRIPTION:
URL:https://centromoderno.com.br/event/sas-enem-2o-dia-435/
CATEGORIES:Ensino Médio
END:VEVENT
END:VCALENDAR