BEGIN:VCALENDAR
VERSION:2.0
PRODID:-//Centro Moderno de Ensino - ECPv5.9.1//NONSGML v1.0//EN
CALSCALE:GREGORIAN
METHOD:PUBLISH
X-WR-CALNAME:Centro Moderno de Ensino
X-ORIGINAL-URL:https://centromoderno.com.br
X-WR-CALDESC:Eventos para Centro Moderno de Ensino
BEGIN:VTIMEZONE
TZID:America/Sao_Paulo
BEGIN:STANDARD
TZOFFSETFROM:-0300
TZOFFSETTO:-0300
TZNAME:-03
DTSTART:20260101T000000
END:STANDARD
END:VTIMEZONE
BEGIN:VEVENT
DTSTART;VALUE=DATE:20261026
DTEND;VALUE=DATE:20261031
DTSTAMP:20260421T025643
CREATED:20260226T131327Z
LAST-MODIFIED:20260226T131327Z
UID:518511-1792972800-1793404799@centromoderno.com.br
SUMMARY:Período de Testes - 3º Período
DESCRIPTION:
URL:https://centromoderno.com.br/event/periodo-de-testes-3o-periodo/
CATEGORIES:Ensino Fundamental II
END:VEVENT
END:VCALENDAR