BEGIN:VCALENDAR
VERSION:2.0
PRODID:-//Centro Moderno de Ensino - ECPv5.9.1//NONSGML v1.0//EN
CALSCALE:GREGORIAN
METHOD:PUBLISH
X-WR-CALNAME:Centro Moderno de Ensino
X-ORIGINAL-URL:https://centromoderno.com.br
X-WR-CALDESC:Eventos para Centro Moderno de Ensino
BEGIN:VTIMEZONE
TZID:America/Sao_Paulo
BEGIN:STANDARD
TZOFFSETFROM:-0300
TZOFFSETTO:-0300
TZNAME:-03
DTSTART:20260101T000000
END:STANDARD
END:VTIMEZONE
BEGIN:VEVENT
DTSTART;VALUE=DATE:20260713
DTEND;VALUE=DATE:20260718
DTSTAMP:20260420T210042
CREATED:20260226T124235Z
LAST-MODIFIED:20260226T124235Z
UID:518456-1783900800-1784332799@centromoderno.com.br
SUMMARY:Período de Testes - 2º Período
DESCRIPTION:
URL:https://centromoderno.com.br/event/periodo-de-testes-2o-periodo-2/
CATEGORIES:Ensino Fundamental I,Ensino Fundamental II
END:VEVENT
END:VCALENDAR