BEGIN:VCALENDAR
VERSION:2.0
PRODID:-//Centro Moderno de Ensino - ECPv5.9.1//NONSGML v1.0//EN
CALSCALE:GREGORIAN
METHOD:PUBLISH
X-WR-CALNAME:Centro Moderno de Ensino
X-ORIGINAL-URL:https://centromoderno.com.br
X-WR-CALDESC:Eventos para Centro Moderno de Ensino
BEGIN:VTIMEZONE
TZID:America/Sao_Paulo
BEGIN:STANDARD
TZOFFSETFROM:-0300
TZOFFSETTO:-0300
TZNAME:-03
DTSTART:20250101T000000
END:STANDARD
END:VTIMEZONE
BEGIN:VEVENT
DTSTART;VALUE=DATE:20251215
DTEND;VALUE=DATE:20251219
DTSTAMP:20260421T030237
CREATED:20250221T120312Z
LAST-MODIFIED:20250221T120312Z
UID:234464-1765756800-1766102399@centromoderno.com.br
SUMMARY:Período de Reavaliação 3ºP
DESCRIPTION:
URL:https://centromoderno.com.br/event/periodo-de-reavaliacao-3op/
CATEGORIES:Ensino Fundamental II
END:VEVENT
END:VCALENDAR