BEGIN:VCALENDAR
VERSION:2.0
PRODID:-//Centro Moderno de Ensino - ECPv5.9.1//NONSGML v1.0//EN
CALSCALE:GREGORIAN
METHOD:PUBLISH
X-WR-CALNAME:Centro Moderno de Ensino
X-ORIGINAL-URL:https://centromoderno.com.br
X-WR-CALDESC:Eventos para Centro Moderno de Ensino
BEGIN:VTIMEZONE
TZID:America/Sao_Paulo
BEGIN:STANDARD
TZOFFSETFROM:-0300
TZOFFSETTO:-0300
TZNAME:-03
DTSTART:20240101T000000
END:STANDARD
END:VTIMEZONE
BEGIN:VEVENT
DTSTART;VALUE=DATE:20240403
DTEND;VALUE=DATE:20240416
DTSTAMP:20260425T113805
CREATED:20240220T103030Z
LAST-MODIFIED:20240220T103030Z
UID:99958-1712102400-1713225599@centromoderno.com.br
SUMMARY:PERÍODO DE AAC 1ºP - EFI
DESCRIPTION:
URL:https://centromoderno.com.br/event/periodo-de-aac-1op-efi/
CATEGORIES:Ensino Fundamental I
END:VEVENT
END:VCALENDAR