BEGIN:VCALENDAR
VERSION:2.0
PRODID:-//Centro Moderno de Ensino - ECPv5.9.1//NONSGML v1.0//EN
CALSCALE:GREGORIAN
METHOD:PUBLISH
X-WR-CALNAME:Centro Moderno de Ensino
X-ORIGINAL-URL:https://centromoderno.com.br
X-WR-CALDESC:Eventos para Centro Moderno de Ensino
BEGIN:VTIMEZONE
TZID:America/Sao_Paulo
BEGIN:STANDARD
TZOFFSETFROM:-0300
TZOFFSETTO:-0300
TZNAME:-03
DTSTART:20240101T000000
END:STANDARD
END:VTIMEZONE
BEGIN:VEVENT
DTSTART;VALUE=DATE:20240329
DTEND;VALUE=DATE:20240330
DTSTAMP:20260425T132130
CREATED:20240206T131528Z
LAST-MODIFIED:20240206T131528Z
UID:97006-1711670400-1711756799@centromoderno.com.br
SUMMARY:FERIADO DA PAIXÃO DE CRISTO
DESCRIPTION:
URL:https://centromoderno.com.br/event/feriado-da-paixao-de-cristo/
LOCATION:Centro Moderno de Ensino\, Rua Mem de Sá 71\, Niterói\, Rio de Janeiro\, 24220260\, Brasil
CATEGORIES:Feriado Nacional
END:VEVENT
END:VCALENDAR