BEGIN:VCALENDAR
VERSION:2.0
PRODID:-//Centro Moderno de Ensino - ECPv5.9.1//NONSGML v1.0//EN
CALSCALE:GREGORIAN
METHOD:PUBLISH
X-WR-CALNAME:Centro Moderno de Ensino
X-ORIGINAL-URL:https://centromoderno.com.br
X-WR-CALDESC:Eventos para Centro Moderno de Ensino
BEGIN:VTIMEZONE
TZID:America/Sao_Paulo
BEGIN:STANDARD
TZOFFSETFROM:-0300
TZOFFSETTO:-0300
TZNAME:-03
DTSTART:20260101T000000
END:STANDARD
END:VTIMEZONE
BEGIN:VEVENT
DTSTART;VALUE=DATE:20261218
DTEND;VALUE=DATE:20261219
DTSTAMP:20260420T210120
CREATED:20260226T132857Z
LAST-MODIFIED:20260226T132857Z
UID:518545-1797552000-1797638399@centromoderno.com.br
SUMMARY:Entrega dos Resultados Finais
DESCRIPTION:
URL:https://centromoderno.com.br/event/entrega-dos-resultados-finais-2/
CATEGORIES:Educação Infantil,Ensino Fundamental I
END:VEVENT
END:VCALENDAR