BEGIN:VCALENDAR
VERSION:2.0
PRODID:-//Centro Moderno de Ensino - ECPv5.9.1//NONSGML v1.0//EN
CALSCALE:GREGORIAN
METHOD:PUBLISH
X-WR-CALNAME:Centro Moderno de Ensino
X-ORIGINAL-URL:https://centromoderno.com.br
X-WR-CALDESC:Eventos para Centro Moderno de Ensino
BEGIN:VTIMEZONE
TZID:America/Sao_Paulo
BEGIN:STANDARD
TZOFFSETFROM:-0300
TZOFFSETTO:-0300
TZNAME:-03
DTSTART:20260101T000000
END:STANDARD
END:VTIMEZONE
BEGIN:VEVENT
DTSTART;VALUE=DATE:20261221
DTEND;VALUE=DATE:20261222
DTSTAMP:20260420T205804
CREATED:20260226T133326Z
LAST-MODIFIED:20260226T133326Z
UID:518551-1797811200-1797897599@centromoderno.com.br
SUMMARY:Entrega de Resultados
DESCRIPTION:
URL:https://centromoderno.com.br/event/entrega-de-resultados/
CATEGORIES:Ensino Fundamental II,Ensino Médio
END:VEVENT
END:VCALENDAR