BEGIN:VCALENDAR
VERSION:2.0
PRODID:-//Centro Moderno de Ensino - ECPv5.9.1//NONSGML v1.0//EN
CALSCALE:GREGORIAN
METHOD:PUBLISH
X-WR-CALNAME:Centro Moderno de Ensino
X-ORIGINAL-URL:https://centromoderno.com.br
X-WR-CALDESC:Eventos para Centro Moderno de Ensino
BEGIN:VTIMEZONE
TZID:America/Sao_Paulo
BEGIN:STANDARD
TZOFFSETFROM:-0300
TZOFFSETTO:-0300
TZNAME:-03
DTSTART:20260101T000000
END:STANDARD
END:VTIMEZONE
BEGIN:VEVENT
DTSTART;VALUE=DATE:20260605
DTEND;VALUE=DATE:20260606
DTSTAMP:20260424T074318
CREATED:20260226T123138Z
LAST-MODIFIED:20260226T123138Z
UID:518394-1780617600-1780703999@centromoderno.com.br
SUMMARY:Dia livre para os alunos
DESCRIPTION:
URL:https://centromoderno.com.br/event/dia-livre-para-os-alunos-11/
CATEGORIES:Evento Escolar
END:VEVENT
END:VCALENDAR