BEGIN:VCALENDAR
VERSION:2.0
PRODID:-//Centro Moderno de Ensino - ECPv5.9.1//NONSGML v1.0//EN
CALSCALE:GREGORIAN
METHOD:PUBLISH
X-WR-CALNAME:Centro Moderno de Ensino
X-ORIGINAL-URL:https://centromoderno.com.br
X-WR-CALDESC:Eventos para Centro Moderno de Ensino
BEGIN:VTIMEZONE
TZID:America/Sao_Paulo
BEGIN:STANDARD
TZOFFSETFROM:-0300
TZOFFSETTO:-0300
TZNAME:-03
DTSTART:20260101T000000
END:STANDARD
END:VTIMEZONE
BEGIN:VEVENT
DTSTART;VALUE=DATE:20261120
DTEND;VALUE=DATE:20261121
DTSTAMP:20260425T094145
CREATED:20260226T131857Z
LAST-MODIFIED:20260226T131857Z
UID:518527-1795132800-1795219199@centromoderno.com.br
SUMMARY:Dia da Consciência Negra
DESCRIPTION:
URL:https://centromoderno.com.br/event/dia-da-consciencia-negra-2/
CATEGORIES:Feriado Nacional
END:VEVENT
END:VCALENDAR