BEGIN:VCALENDAR
VERSION:2.0
PRODID:-//Centro Moderno de Ensino - ECPv5.9.1//NONSGML v1.0//EN
CALSCALE:GREGORIAN
METHOD:PUBLISH
X-WR-CALNAME:Centro Moderno de Ensino
X-ORIGINAL-URL:https://centromoderno.com.br
X-WR-CALDESC:Eventos para Centro Moderno de Ensino
BEGIN:VTIMEZONE
TZID:America/Sao_Paulo
BEGIN:STANDARD
TZOFFSETFROM:-0300
TZOFFSETTO:-0300
TZNAME:-03
DTSTART:20260101T000000
END:STANDARD
END:VTIMEZONE
BEGIN:VEVENT
DTSTART;VALUE=DATE:20261203
DTEND;VALUE=DATE:20261205
DTSTAMP:20260420T230407
CREATED:20260226T133438Z
LAST-MODIFIED:20260226T133438Z
UID:518553-1796256000-1796428799@centromoderno.com.br
SUMMARY:2CH Provas Discursivas - 3º Período
DESCRIPTION:
URL:https://centromoderno.com.br/event/2ch-provas-discursivas-3o-periodo/
CATEGORIES:Ensino Médio
END:VEVENT
END:VCALENDAR