BEGIN:VCALENDAR
VERSION:2.0
PRODID:-//Centro Moderno de Ensino - ECPv5.9.1//NONSGML v1.0//EN
CALSCALE:GREGORIAN
METHOD:PUBLISH
X-WR-CALNAME:Centro Moderno de Ensino
X-ORIGINAL-URL:https://centromoderno.com.br
X-WR-CALDESC:Eventos para Centro Moderno de Ensino
BEGIN:VTIMEZONE
TZID:America/Sao_Paulo
BEGIN:STANDARD
TZOFFSETFROM:-0300
TZOFFSETTO:-0300
TZNAME:-03
DTSTART:20260101T000000
END:STANDARD
END:VTIMEZONE
BEGIN:VEVENT
DTSTART;TZID=America/Sao_Paulo:20260112T140000
DTEND;TZID=America/Sao_Paulo:20260112T170000
DTSTAMP:20260420T232123
CREATED:20260114T185038Z
LAST-MODIFIED:20260114T185851Z
UID:514825-1768226400-1768237200@centromoderno.com.br
SUMMARY:1ª Entrega de material SAS
DESCRIPTION:Para quem realizou a compra do material até o dia 07/01\, retirada na escola.
URL:https://centromoderno.com.br/event/1o-entrega-de-material-sas/
LOCATION:Centro Moderno de Ensino\, Rua Mem de Sá 71\, Niterói\, Rio de Janeiro\, 24220260\, Brasil
CATEGORIES:Educação Infantil,Ensino Fundamental I,Ensino Fundamental II,Ensino Médio
END:VEVENT
END:VCALENDAR